BEGIN:VCALENDAR
VERSION:2.0
PRODID:-//wp-events-plugin.com//7.2.3//EN
TZID:Europe/Amsterdam
X-WR-TIMEZONE:Europe/Amsterdam
BEGIN:VEVENT
UID:237@veenhartkerk.nl
DTSTART;TZID=Europe/Amsterdam:20241107T200000
DTEND;TZID=Europe/Amsterdam:20241107T220000
DTSTAMP:20240910T161052Z
URL:https://veenhartkerk.nl/events/cursus-deel-het-goede-nieuws/
SUMMARY:Cursus: Deel het goede nieuws
DESCRIPTION:Deel het goede nieuws\nIn je werk\, in je buurt\, op je sportve
 reniging\, overal kom je mensen tegen en spreek je mensen. En misschien zi
 jn er momenten dat je denkt: ik zou wel eens iets willen vertellen over mi
 jn geloof. Maar hoe breng je dat ter sprake? En hoe verwoord je in een paa
 r zinnen wat je gelooft? Misschien twijfel je wel: moet ik er iets over ze
 ggen? Of denk je achteraf: had ik maar iets gezegd! In september en oktobe
 r organiseren we een cursus van vier avonden over ‘deel het goede nieuws
 ’. Onderwerpen die aan bod komen zijn:\n\n 	Waarom spreken over je geloo
 f?\n 	Hoe verwoord je je geloof?\n 	Hoe ben je aanstekelijk christen?\n 	I
 emand is geinteresseerd\, wat nu?\n\nMet de cursus willen we je aanmoedige
 n het goede nieuws te delen op een manier die bij je past. Iedere avond he
 bben we een stukje toelichting\, maar ga je ook aan de slag\, door zelf te
  oefenen. De cursus wordt gegeven in de Veenhartkerk op donderdagavond van
  20.00 – 22.00. De data zijn: 26 september\, 10 oktober\, 7 november en 
 21 november.\nNeem contact op met:\nMarten van Benthem (martenvanbenthem@v
 eenhartkerk.nl\; 06 46487659)\nMartin Oudman (martin.oudman@leanspire.nl\;
  06 52504630)
END:VEVENT
BEGIN:VTIMEZONE
TZID:Europe/Amsterdam
X-LIC-LOCATION:Europe/Amsterdam
BEGIN:STANDARD
DTSTART:20241027T020000
TZOFFSETFROM:+0200
TZOFFSETTO:+0100
TZNAME:CET
END:STANDARD
END:VTIMEZONE
END:VCALENDAR