BEGIN:VCALENDAR
VERSION:2.0
PRODID:-//wp-events-plugin.com//7.2.3//EN
TZID:Europe/Amsterdam
X-WR-TIMEZONE:Europe/Amsterdam
BEGIN:VEVENT
UID:235@veenhartkerk.nl
DTSTART;TZID=Europe/Amsterdam:20240926T200000
DTEND;TZID=Europe/Amsterdam:20240926T220000
DTSTAMP:20240910T161148Z
URL:https://veenhartkerk.nl/events/deel-het-goed-nieuws/
SUMMARY:Cursus: Deel het goede nieuws
DESCRIPTION:Deel het goede nieuws\nIn je werk\, in je buurt\, op je sportve
 reniging\, overal kom je mensen tegen en spreek je mensen. En misschien zi
 jn er momenten dat je denkt: ik zou wel eens iets willen vertellen over mi
 jn geloof. Maar hoe breng je dat ter sprake? En hoe verwoord je in een paa
 r zinnen wat je gelooft? Misschien twijfel je wel: moet ik er iets over ze
 ggen? Of denk je achteraf: had ik maar iets gezegd! In september en oktobe
 r organiseren we een cursus van vier avonden over ‘deel het goede nieuws
 ’. Onderwerpen die aan bod komen zijn: \n\n 	Waarom spreken over je gel
 oof?\n 	Hoe verwoord je je geloof?\n 	Hoe ben je aanstekelijk christen?\n 
 	Iemand is geinteresseerd\, wat nu?\n\nMet de cursus willen we je aanmoedi
 gen het goede nieuws te delen op een manier die bij je past. Iedere avond 
 hebben we een stukje toelichting\, maar ga je ook aan de slag\, door zelf 
 te oefenen. De cursus wordt gegeven in de Veenhartkerk op donderdagavond v
 an 20.00 – 22.00. De data zijn: 26 september\, 10 oktober\, 7 november e
 n 21 november.\nNeem contact op met:\nMarten van Benthem (martenvanbenthem
 @veenhartkerk.nl\; 06 46487659)\nMartin Oudman (martin.oudman@leanspire.nl
 \; 06 52504630)
END:VEVENT
BEGIN:VTIMEZONE
TZID:Europe/Amsterdam
X-LIC-LOCATION:Europe/Amsterdam
BEGIN:DAYLIGHT
DTSTART:20240331T030000
TZOFFSETFROM:+0100
TZOFFSETTO:+0200
TZNAME:CEST
END:DAYLIGHT
END:VTIMEZONE
END:VCALENDAR