BEGIN:VCALENDAR
VERSION:2.0
PRODID:-//wp-events-plugin.com//7.2.3//EN
TZID:Europe/Amsterdam
X-WR-TIMEZONE:Europe/Amsterdam
BEGIN:VEVENT
UID:188@veenhartkerk.nl
DTSTART;TZID=Europe/Amsterdam:20240901T103000
DTEND;TZID=Europe/Amsterdam:20240901T120000
DTSTAMP:20240829T073716Z
URL:https://veenhartkerk.nl/events/dienst-2-2024-09-01/
SUMMARY:Dienst bij de molen
DESCRIPTION:Startzondag 1 september\n\nOp 1 september hopen we een dienst i
 n de buitenlucht te houden bij Willem en Joke. Het adres is Oudhuijzerweg 
 109 in Wilnis. We zijn erg blij dat Willem en Joke hun prachtige plek weer
  openstellen om de dienst te kunnen houden.\n\nIn de dienst op 1 september
  wordt Hennie uitgezegend als oudste\, na een periode van 4 jaar. Annemiek
 e en Annelies zullen toetreden tot de oudstenraad en zullen worden ingezeg
 end. Een mooi moment om samen bij stil te staan\, dus we hopen dat je erbi
 j bent!\n\nHier alvast wat praktische zaken voor de dienst op 1 september:
 \n\n 	De dienst start zoals gebruikelijk om 10.30 uur.\n 	Parkeerplek is b
 eperkt\, dus kom zoveel als mogelijk met de fiets.\n 	Na de dienst willen 
 we samen lunchen. We vragen iedereen om iets lekkers mee te nemen voor de 
 lunch.\n 	Na de lunch zal er nog een middagprogramma zijn\, waarin we op e
 en ontspannen manier met elkaar in gesprek gaan en elkaar beter leren kenn
 en.  Het middagprogramma start rond 13.15 en zal rond 14.00 uur afgelopen
  zijn.\n 	Voor de kinderen is er opvang\, zowel tijdens de dienst als bij 
 het middagprogramma.\n 	Wanneer je vragen hebt\, dan kun je je richten tot
  Martin Oudman. Hij coördineert de startzondag. Martin is te bereiken op 
 06-52504630\n\nWe beginnen om 10.30 uur.
END:VEVENT
BEGIN:VTIMEZONE
TZID:Europe/Amsterdam
X-LIC-LOCATION:Europe/Amsterdam
BEGIN:DAYLIGHT
DTSTART:20240331T030000
TZOFFSETFROM:+0100
TZOFFSETTO:+0200
TZNAME:CEST
END:DAYLIGHT
END:VTIMEZONE
END:VCALENDAR