BEGIN:VCALENDAR
VERSION:2.0
PRODID:-//wp-events-plugin.com//7.2.3//EN
TZID:Europe/Amsterdam
X-WR-TIMEZONE:Europe/Amsterdam
BEGIN:VEVENT
UID:8@veenhartkerk.nl
DTSTART;TZID=Europe/Amsterdam:20240128T103000
DTEND;TZID=Europe/Amsterdam:20240128T120000
DTSTAMP:20240111T195719Z
URL:https://veenhartkerk.nl/events/dienst-3/
SUMMARY:Dienst
DESCRIPTION:\nZondagmorgen om 10.30 uur is er weer een dienst. Je bent van 
 harte welkom. Er is koffie voor en na de dienst.\n\n\nEwoud Holsappel zal 
 spreken.\n
LOCATION:Veenhartkerk\, Grutto 2a\, Mijdrecht\, 3641TB\, Nederland
X-APPLE-STRUCTURED-LOCATION;VALUE=URI;X-ADDRESS=Grutto 2a\, Mijdrecht\, 364
 1TB\, Nederland;X-APPLE-RADIUS=100;X-TITLE=Veenhartkerk:geo:0,0
END:VEVENT
BEGIN:VTIMEZONE
TZID:Europe/Amsterdam
X-LIC-LOCATION:Europe/Amsterdam
BEGIN:STANDARD
DTSTART:20231029T020000
TZOFFSETFROM:+0200
TZOFFSETTO:+0100
TZNAME:CET
END:STANDARD
END:VTIMEZONE
END:VCALENDAR