BEGIN:VCALENDAR
VERSION:2.0
PRODID:-//wp-events-plugin.com//7.2.3//EN
TZID:Europe/Amsterdam
X-WR-TIMEZONE:Europe/Amsterdam
BEGIN:VEVENT
UID:267@veenhartkerk.nl
DTSTART;TZID=Europe/Amsterdam:20260405T103000
DTEND;TZID=Europe/Amsterdam:20260405T120000
DTSTAMP:20260327T155539Z
URL:https://veenhartkerk.nl/events/dienst-4-2026-04-05/
SUMMARY:Paasviering - paaswandeling
DESCRIPTION:Voor aanvang van de dienst is er de mogelijkheid om mee te doen
  met een paaswandeling. Deze start om 9.30 vanaf ons eigen kerkgebouw.\n\n
 We beginnen de dienst om 10.30 uur. Spreker: Jacob Rijlaarsdam\n\nNa de di
 enst drinken we koffie en thee met een feestelijk tintje.\n\nVan harte wel
 kom\, of je er nu voor het eerst bent of vaker komt.
LOCATION:Veenhartkerk\, Grutto 2a\, Mijdrecht\, 3641 TB\, Nederland
X-APPLE-STRUCTURED-LOCATION;VALUE=URI;X-ADDRESS=Grutto 2a\, Mijdrecht\, 364
 1 TB\, Nederland;X-APPLE-RADIUS=100;X-TITLE=Veenhartkerk:geo:0,0
END:VEVENT
BEGIN:VTIMEZONE
TZID:Europe/Amsterdam
X-LIC-LOCATION:Europe/Amsterdam
BEGIN:DAYLIGHT
DTSTART:20260329T030000
TZOFFSETFROM:+0100
TZOFFSETTO:+0200
TZNAME:CEST
END:DAYLIGHT
END:VTIMEZONE
END:VCALENDAR