BEGIN:VCALENDAR
VERSION:2.0
PRODID:-//wp-events-plugin.com//7.2.3//EN
TZID:Europe/Amsterdam
X-WR-TIMEZONE:Europe/Amsterdam
BEGIN:VEVENT
UID:12@veenhartkerk.nl
DTSTART;TZID=Europe/Amsterdam:20240218T103000
DTEND;TZID=Europe/Amsterdam:20240218T120000
DTSTAMP:20240216T162217Z
URL:https://veenhartkerk.nl/events/dienst-en-doop/
SUMMARY:Dienst en Doop
DESCRIPTION:Leven mét hoop\nHoe kun je met hoop in het leven staan? Daarov
 er gaat het zondag. Van harte welkom aankomende zondag in de Veenhartkerk\
 , of je er nu voor het eerst bent of vaker komt.\nIn deze dienst gaat Mart
 en van Benthem voor. Deze dienst is extra feestelijk want Fem zal gedoopt 
 worden.\n\nVan harte welkom. Dienst start om 10.30 uur.
END:VEVENT
BEGIN:VTIMEZONE
TZID:Europe/Amsterdam
X-LIC-LOCATION:Europe/Amsterdam
BEGIN:STANDARD
DTSTART:20231029T020000
TZOFFSETFROM:+0200
TZOFFSETTO:+0100
TZNAME:CET
END:STANDARD
END:VTIMEZONE
END:VCALENDAR