BEGIN:VCALENDAR
VERSION:2.0
PRODID:-//wp-events-plugin.com//7.2.3//EN
TZID:Europe/Amsterdam
X-WR-TIMEZONE:Europe/Amsterdam
BEGIN:VEVENT
UID:5@veenhartkerk.nl
DTSTART;TZID=Europe/Amsterdam:20240107T103000
DTEND;TZID=Europe/Amsterdam:20240107T120000
DTSTAMP:20240106T123725Z
URL:https://veenhartkerk.nl/events/dienst/
SUMMARY:Dienst
DESCRIPTION:\nZondagmorgen om 10.30 uur is er weer een dienst. Je bent van 
 harte welkom. Er is koffie voor en na de dienst.\n\n\nSietse Houtman zal s
 preken met als thema\; Oog voor armoede en onrecht.\n\n\n
END:VEVENT
BEGIN:VTIMEZONE
TZID:Europe/Amsterdam
X-LIC-LOCATION:Europe/Amsterdam
BEGIN:STANDARD
DTSTART:20231029T020000
TZOFFSETFROM:+0200
TZOFFSETTO:+0100
TZNAME:CET
END:STANDARD
END:VTIMEZONE
END:VCALENDAR