BEGIN:VCALENDAR
VERSION:2.0
PRODID:-//wp-events-plugin.com//7.2.3//EN
TZID:Europe/Amsterdam
X-WR-TIMEZONE:Europe/Amsterdam
BEGIN:VEVENT
UID:38@veenhartkerk.nl
DTSTART;TZID=Europe/Amsterdam:20240407T090000
DTEND;TZID=Europe/Amsterdam:20240407T100000
DTSTAMP:20240403T123046Z
URL:https://veenhartkerk.nl/events/emmauswandeling/
SUMMARY:Emmaüswandeling
DESCRIPTION:We nodigen je graag uit voor de Emmaüswandeling op zondag 7 ap
 ril\nvan 9 uur tot 10 uur. We vertrekken vanuit de Veenhartkerk.\nNet als 
 de Emmaüsgangers lopen we twee aan twee. We lopen een uurtje met elkaar o
 p en praten na over het Paasverhaal.\nVoor degenen met jonge kinderen will
 en we benadrukken dat er kinderopvang aanwezig is.\nWe hopen je te zien op
  deze bijzondere wandeling.\nMet vriendelijke groet\,\nRaymonde en Esther
END:VEVENT
BEGIN:VTIMEZONE
TZID:Europe/Amsterdam
X-LIC-LOCATION:Europe/Amsterdam
BEGIN:DAYLIGHT
DTSTART:20240331T030000
TZOFFSETFROM:+0100
TZOFFSETTO:+0200
TZNAME:CEST
END:DAYLIGHT
END:VTIMEZONE
END:VCALENDAR