BEGIN:VCALENDAR
VERSION:2.0
PRODID:-//wp-events-plugin.com//7.2.3//EN
TZID:Europe/Amsterdam
X-WR-TIMEZONE:Europe/Amsterdam
BEGIN:VEVENT
UID:41@veenhartkerk.nl
DTSTART;TZID=Europe/Amsterdam:20240605T200000
DTEND;TZID=Europe/Amsterdam:20240605T220000
DTSTAMP:20240530T114819Z
URL:https://veenhartkerk.nl/events/gemeente-avond-lhb/
SUMMARY:Gemeente avond LHB+
DESCRIPTION:Zoals in de vorige nieuwsbrief al aangekondigd\, willen we op w
 oensdag 5 juni met elkaar in gesprek gaan over LHB+ in de Veenhartkerk.\n\
 nOp deze avond zullen vrijwilligers van Stichting Verscheurd ons begeleide
 n en zullen we met elkaar het gesprek voeren over onze verschillende stand
 punten.\n\nStichting Verscheurd heeft doel om ruimte te creëren voor een 
 open gesprek over homoseksualiteit en geloven. Stichting Verscheurd wil ch
 ristenen aanmoedigen en helpen het gesprek hierover aan te gaan. Op een wi
 jze die respectvol is naar elke overtuiging\, liefdevol naar hen die het b
 etreft\, die samenbrengt en niet polariseert en zonder vooroordelen en cli
 chés.\n\nWe hopen met elkaar een mooie avond te hebben\, waarin we goed n
 aar elkaar mogen luisteren en vanuit daar kunnen bepalen hoe we verder gaa
 n.\n\nVan harte welkom in de Veenhartkerk! We starten om 20.00 uur.
LOCATION:Veenhartkerk\, Grutto 2a\, Mijdrecht\, 3641TB\, Nederland
X-APPLE-STRUCTURED-LOCATION;VALUE=URI;X-ADDRESS=Grutto 2a\, Mijdrecht\, 364
 1TB\, Nederland;X-APPLE-RADIUS=100;X-TITLE=Veenhartkerk:geo:0,0
END:VEVENT
BEGIN:VTIMEZONE
TZID:Europe/Amsterdam
X-LIC-LOCATION:Europe/Amsterdam
BEGIN:DAYLIGHT
DTSTART:20240331T030000
TZOFFSETFROM:+0100
TZOFFSETTO:+0200
TZNAME:CEST
END:DAYLIGHT
END:VTIMEZONE
END:VCALENDAR