BEGIN:VCALENDAR
VERSION:2.0
PRODID:-//wp-events-plugin.com//7.2.3//EN
TZID:Europe/Amsterdam
X-WR-TIMEZONE:Europe/Amsterdam
BEGIN:VEVENT
UID:36@veenhartkerk.nl
DTSTART;TZID=Europe/Amsterdam:20240329T193000
DTEND;TZID=Europe/Amsterdam:20240329T203000
DTSTAMP:20240327T074413Z
URL:https://veenhartkerk.nl/events/goede-vrijdag/
SUMMARY:Goede Vrijdag
DESCRIPTION:Goede Vrijdag is de dag waarop we de kruisiging van Jezus herd
 enken.\n\nEr is dan een dienst om 19.30 uur in de Veenhartkerk. Van harte 
 welkom!\n\n
LOCATION:Veenhartkerk\, Grutto 2a\, Mijdrecht\, 3641TB\, Nederland
X-APPLE-STRUCTURED-LOCATION;VALUE=URI;X-ADDRESS=Grutto 2a\, Mijdrecht\, 364
 1TB\, Nederland;X-APPLE-RADIUS=100;X-TITLE=Veenhartkerk:geo:0,0
END:VEVENT
BEGIN:VTIMEZONE
TZID:Europe/Amsterdam
X-LIC-LOCATION:Europe/Amsterdam
BEGIN:STANDARD
DTSTART:20231029T020000
TZOFFSETFROM:+0200
TZOFFSETTO:+0100
TZNAME:CET
END:STANDARD
END:VTIMEZONE
END:VCALENDAR