BEGIN:VCALENDAR
VERSION:2.0
PRODID:-//wp-events-plugin.com//7.2.3//EN
TZID:Europe/Amsterdam
X-WR-TIMEZONE:Europe/Amsterdam
BEGIN:VEVENT
UID:40@veenhartkerk.nl
DTSTART;TZID=Europe/Amsterdam:20240530T200000
DTEND;TZID=Europe/Amsterdam:20240530T220000
DTSTAMP:20240403T123301Z
URL:https://veenhartkerk.nl/events/introductiecursus-2/
SUMMARY:Introductiecursus
DESCRIPTION:Wil je graag lid worden van de Veenhartkerk? Of wil je graag me
 er weten over de Veenhartkerk? Volg dan de introductiecursus! Tijdens deze
  cursus leer je wat de Veenhartkerk is en waar de Veenhartkerk voor wil ga
 an. De cursus is vrijblijvend: je kunt na de cursus besluiten lid te worde
 n of er van af te zien. Marten van Benthem en Hennie den Bok geven de curs
 us.\n\nVoor vragen of aanmelden voor de cursus\, neem contact op met Henni
 e (0648330153 of Hennie@veenhartkerk.nl ). De cursus bestaat uit een aant
 al avonden\; 16 en 30 mei en een moment om de welkomstdienst\, voor te ber
 eiden.
END:VEVENT
BEGIN:VTIMEZONE
TZID:Europe/Amsterdam
X-LIC-LOCATION:Europe/Amsterdam
BEGIN:DAYLIGHT
DTSTART:20240331T030000
TZOFFSETFROM:+0100
TZOFFSETTO:+0200
TZNAME:CEST
END:DAYLIGHT
END:VTIMEZONE
END:VCALENDAR