BEGIN:VCALENDAR
VERSION:2.0
PRODID:-//wp-events-plugin.com//7.2.3//EN
TZID:Europe/Amsterdam
X-WR-TIMEZONE:Europe/Amsterdam
BEGIN:VEVENT
UID:37@veenhartkerk.nl
DTSTART;TZID=Europe/Amsterdam:20240330T193000
DTEND;TZID=Europe/Amsterdam:20240330T220000
DTSTAMP:20240327T080955Z
URL:https://veenhartkerk.nl/events/paaswake/
SUMMARY:Passion Mijdrecht
DESCRIPTION:Zaterdag 30 maart om 20.00 uur is er Passion Mijdrecht. LET OP:
  dit is niet in de Veenhartkerk maar start bij de Janskerk\, Janskerkplein
  1\, Mijdrecht\n\nSamen met diverse kerken uit Mijdrecht is de Passion sam
 engesteld.  Dit jaar is het thema\; “Hoe ver-geef jij”. Zie ook: www.
 dekerkvanmijdrecht.nl\n\n19.30 uur Janskerkplein - koffie en thee\n20.00 u
 ur Wake in de Janskerk\n20.30 uur Wandeling met het kruis\n21.00 uur Paasw
 ake de Rank\n21.45 uur Ontmoeting bij paasbrood en drankje\n\nVan harte we
 lkom!\n\n
END:VEVENT
BEGIN:VTIMEZONE
TZID:Europe/Amsterdam
X-LIC-LOCATION:Europe/Amsterdam
BEGIN:STANDARD
DTSTART:20231029T020000
TZOFFSETFROM:+0200
TZOFFSETTO:+0100
TZNAME:CET
END:STANDARD
END:VTIMEZONE
END:VCALENDAR