BEGIN:VCALENDAR
VERSION:2.0
PRODID:-//wp-events-plugin.com//7.2.3//EN
TZID:Europe/Amsterdam
X-WR-TIMEZONE:Europe/Amsterdam
BEGIN:VEVENT
UID:9@veenhartkerk.nl
DTSTART;TZID=Europe/Amsterdam:20240203T200000
DTEND;TZID=Europe/Amsterdam:20240203T230000
DTSTAMP:20240131T084717Z
URL:https://veenhartkerk.nl/events/pubquiz/
SUMMARY:Pubquiz
DESCRIPTION:Pub Quiz -3 februari 2024\n\n16 teams nemen het tegen elkaar op
  in deze gezellig pub quiz.\n\nInkoop 20.00 uur - Aanvang: 20.30 uur\n\nIe
 der team bestaat uit 4 of 5 personen.\n\nInschrijfgeld: 7\,50 per persoon 
 (alleen digitaal via tikkie bij de deur).\n\n
END:VEVENT
BEGIN:VTIMEZONE
TZID:Europe/Amsterdam
X-LIC-LOCATION:Europe/Amsterdam
BEGIN:STANDARD
DTSTART:20231029T020000
TZOFFSETFROM:+0200
TZOFFSETTO:+0100
TZNAME:CET
END:STANDARD
END:VTIMEZONE
END:VCALENDAR