BEGIN:VCALENDAR
VERSION:2.0
PRODID:-//wp-events-plugin.com//7.2.3//EN
TZID:Europe/Amsterdam
X-WR-TIMEZONE:Europe/Amsterdam
BEGIN:VEVENT
UID:284@veenhartkerk.nl
DTSTART;TZID=Europe/Amsterdam:20260404T130000
DTEND;TZID=Europe/Amsterdam:20260404T160000
DTSTAMP:20260327T155808Z
URL:https://veenhartkerk.nl/events/stille-zaterdag/
SUMMARY:Stille zaterdag
DESCRIPTION:Stille Zaterdag - 4 april\n\nOp deze dag staan we van 13:00 uur
  tot 16:00 uur op het Raadhuisplein in Mijdrecht\, samen met  de Protesta
 ntse Gemeente Mijdrecht\, Leef! en De Weg.\n\nWe geven de mensen die langs
 komen de gelegenheid om een kaarsje te branden\, iets bij het kruis te bre
 ngen of er misschien wel iets op te schrijven. Er is ook koffie en thee.\n
 \nLocatie: Raadhuisplein\, Mijdrecht
LOCATION:Raadhuisplein\, Mijdrecht\, Raadhuisplein\, Mijdrecht\, 
X-APPLE-STRUCTURED-LOCATION;VALUE=URI;X-ADDRESS=Raadhuisplein\, Mijdrecht\,
  ;X-APPLE-RADIUS=100;X-TITLE=Raadhuisplein\, Mijdrecht:geo:0,0
END:VEVENT
BEGIN:VTIMEZONE
TZID:Europe/Amsterdam
X-LIC-LOCATION:Europe/Amsterdam
BEGIN:DAYLIGHT
DTSTART:20260329T030000
TZOFFSETFROM:+0100
TZOFFSETTO:+0200
TZNAME:CEST
END:DAYLIGHT
END:VTIMEZONE
END:VCALENDAR